BEGIN:VCALENDAR
VERSION:2.0
PRODID:-//Agenda do Vinho - ECPv4.9.0//NONSGML v1.0//EN
CALSCALE:GREGORIAN
METHOD:PUBLISH
X-WR-CALNAME:Agenda do Vinho
X-ORIGINAL-URL:https://agendadovinho.com.br
X-WR-CALDESC:Eventos para Agenda do Vinho
BEGIN:VEVENT
DTSTART;TZID=America/Sao_Paulo:20240426T193000
DTEND;TZID=America/Sao_Paulo:20240426T193000
DTSTAMP:20260420T120236
CREATED:20240322T102057Z
LAST-MODIFIED:20240322T102057Z
UID:19682-1714159800-1714159800@agendadovinho.com.br
SUMMARY:Introdução ao mundo do vinho
DESCRIPTION:
URL:https://agendadovinho.com.br/event/introducao-ao-mundo-do-vinho-22/
LOCATION:Mont Cristo Wine Bar\, R. das Figueiras\, 631 - Jardim\, Santo André\, SP\, 09080-370
CATEGORIES:Curso técnico,SP - Demais cidades
ATTACH;FMTTYPE=image/jpeg:https://agendadovinho.com.br/wp-content/uploads/2024/03/introducao-ao-mundo-dos-vinhos_260424.jpg
END:VEVENT
END:VCALENDAR