BEGIN:VCALENDAR
VERSION:2.0
PRODID:-//Agenda do Vinho - ECPv4.9.0//NONSGML v1.0//EN
CALSCALE:GREGORIAN
METHOD:PUBLISH
X-WR-CALNAME:Agenda do Vinho
X-ORIGINAL-URL:https://agendadovinho.com.br
X-WR-CALDESC:Eventos para Agenda do Vinho
BEGIN:VEVENT
DTSTART;TZID=America/Sao_Paulo:20200331T190000
DTEND;TZID=America/Sao_Paulo:20200331T210000
DTSTAMP:20260425T165548
CREATED:20200311T201915Z
LAST-MODIFIED:20200311T201915Z
UID:12057-1585681200-1585688400@agendadovinho.com.br
SUMMARY:Introdução ao mundo do vinho
DESCRIPTION:Poucas vagas…garanta a sua!🍷 \n
URL:https://agendadovinho.com.br/event/introducao-ao-mundo-do-vinho-19/
LOCATION:Bekaa Wine Club\, R. Dr. Raul Silva\, 45 - Vila Redentora\, São José do Rio Preto\, SP\, 15015-020\, Brasil
CATEGORIES:Curso técnico,SP - Demais cidades
ATTACH;FMTTYPE=image/jpeg:https://agendadovinho.com.br/wp-content/uploads/2020/03/introdução-ao-mundo-do-vinho_310320.jpg
END:VEVENT
END:VCALENDAR