BEGIN:VCALENDAR
VERSION:2.0
PRODID:-//Agenda do Vinho - ECPv4.9.0//NONSGML v1.0//EN
CALSCALE:GREGORIAN
METHOD:PUBLISH
X-WR-CALNAME:Agenda do Vinho
X-ORIGINAL-URL:https://agendadovinho.com.br
X-WR-CALDESC:Eventos para Agenda do Vinho
BEGIN:VEVENT
DTSTART;TZID=America/Sao_Paulo:20200306T200000
DTEND;TZID=America/Sao_Paulo:20200306T200000
DTSTAMP:20260425T201854
CREATED:20200204T193430Z
LAST-MODIFIED:20200204T193430Z
UID:11098-1583524800-1583524800@agendadovinho.com.br
SUMMARY:INTRODUÇÃO AO MUNDO DO VINHO
DESCRIPTION:Curso – INTRODUÇÃO AO MUNDO DO VINHO. \nVenha aprender mais sobre a arte do vinho.\nPor quê fazer este curso?\nVenha aprender a degustar um vinho usando os 5 sentidos.\nMergulhando neste oceano da imaginação vamos descrever nossas percepções de um vinho e seus aromas na pratica.\nAprenda harmonizar seu vinho com alimentos de uma maneira muito simples.\nTenha uma experiência incrível e inesquecível degustando ótimos vinhos.\nSOBRE O CURSO\n*Curso básico de vinhos com carga horária de 9 horas. *Com degustação em todas as aulas para um melhor aprendizado. *Venha fazer parte deste clube e tenha todas as vantagens na compra de vinhos no site Viiwine.\nMINISTRAÇÃO – Robson Spigariol\nSommelier Profissional & Internacional formado pela ABS (Associação Brasileira de Sommelier)\nParticipação Exclusiva\n– Antônio Paulo Milanesio\nSommelier internacional formado pela ABS (Associação Brasileira de Sommeliers)\nCurso de formação pela The University of Adelaide – Australia\nDesenvolvimento de materias relacionadas ao mundo do vinho com publicação no Club del Vino.\nPROGRAMAÇÃO DO CURSO\n1º  Aula (06.03.20)\nA história do vinho e a evolução no mundo.\nComo é a produção de vinhos\, tipos de uvas brancas e tintas.\nAromas primários\, secundários e terciários.\nTipos de fermentação.\n2º Aula (13.03.20)\nTécnicas de degustação.\nAcessórios para o vinho\, como usar e porque usar.\nCuriosidades sobre como guardar\, tempo de guardo para os vinhos e como avaliar as condições de consumo.\n3º Aula (20.03.20)\nHarmonização.\nComo estocar seu vinho sem perder o ponto da sua melhor evolução.\nComo comprar.\nTipos de taças.\nConclusão do curso com Certificado\nvinhos à serem degustados\nCasa Perini\n-Sauvignon Blanc\, Malbec e Espumante Brut Rose \nInvestimento : 4 parcelas de R$98\,25. \nFaça sua inscrição pelo site www.viiwine.com.br\nOu pelo Whatsapp 11 932274562 (link na bio) \n
URL:https://agendadovinho.com.br/event/introducao-ao-mundo-do-vinho-17/
LOCATION:Av. Armando Ítalo Setti\, 520\, Av. Armando Ítalo Setti\, 520 - Baeta Neves\, São Bernardo do Campo\, SP\, 09760-281\, Brasil
CATEGORIES:Curso técnico,SP - Demais cidades
ATTACH;FMTTYPE=image/jpeg:https://agendadovinho.com.br/wp-content/uploads/2020/02/introducao-ao-mundo-do-vinho_060320.jpg
END:VEVENT
END:VCALENDAR