BEGIN:VCALENDAR
VERSION:2.0
PRODID:-//Agenda do Vinho - ECPv4.9.0//NONSGML v1.0//EN
CALSCALE:GREGORIAN
METHOD:PUBLISH
X-WR-CALNAME:Agenda do Vinho
X-ORIGINAL-URL:https://agendadovinho.com.br
X-WR-CALDESC:Eventos para Agenda do Vinho
BEGIN:VEVENT
DTSTART;TZID=America/Sao_Paulo:20201015T190000
DTEND;TZID=America/Sao_Paulo:20201015T190000
DTSTAMP:20260423T062934
CREATED:20201015T144923Z
LAST-MODIFIED:20201015T144923Z
UID:16210-1602788400-1602788400@agendadovinho.com.br
SUMMARY:Intempéries na viticultura
DESCRIPTION:15/out – 19:00 \n
URL:https://agendadovinho.com.br/event/intemperies-na-viticultura/
LOCATION:Instagram
CATEGORIES:Curso técnico,Online
ATTACH;FMTTYPE=image/jpeg:https://agendadovinho.com.br/wp-content/uploads/2020/10/thewineschoolbrasil_151020.jpg
END:VEVENT
END:VCALENDAR