BEGIN:VCALENDAR
VERSION:2.0
PRODID:-//Agenda do Vinho - ECPv4.9.0//NONSGML v1.0//EN
CALSCALE:GREGORIAN
METHOD:PUBLISH
X-WR-CALNAME:Agenda do Vinho
X-ORIGINAL-URL:https://agendadovinho.com.br
X-WR-CALDESC:Eventos para Agenda do Vinho
BEGIN:VEVENT
DTSTART;TZID=America/Sao_Paulo:20200513T170000
DTEND;TZID=America/Sao_Paulo:20200513T170000
DTSTAMP:20260426T004805
CREATED:20200512T192831Z
LAST-MODIFIED:20200513T142751Z
UID:13387-1589389200-1589389200@agendadovinho.com.br
SUMMARY:Wine Talks
DESCRIPTION:13/05 – 17h \n
URL:https://agendadovinho.com.br/event/instagram-live-wine-talks/
LOCATION:Instagram
CATEGORIES:Curso técnico,Online
ATTACH;FMTTYPE=image/jpeg:https://agendadovinho.com.br/wp-content/uploads/2020/05/drummelier_130520.jpg
END:VEVENT
END:VCALENDAR