BEGIN:VCALENDAR
VERSION:2.0
PRODID:-//Agenda do Vinho - ECPv4.9.0//NONSGML v1.0//EN
CALSCALE:GREGORIAN
METHOD:PUBLISH
X-WR-CALNAME:Agenda do Vinho
X-ORIGINAL-URL:https://agendadovinho.com.br
X-WR-CALDESC:Eventos para Agenda do Vinho
BEGIN:VEVENT
DTSTART;TZID=America/Sao_Paulo:20200310T193000
DTEND;TZID=America/Sao_Paulo:20200310T193000
DTSTAMP:20260423T222111
CREATED:20200302T172213Z
LAST-MODIFIED:20200302T172213Z
UID:11658-1583868600-1583868600@agendadovinho.com.br
SUMMARY:Iniciação ao vinho
DESCRIPTION:A Vineria 401 vai realizar no próximo dia 10 de março às 19:30 a segunda turma do curso de Iniciação ao Mundo do Vinho. O curso será ministrado pelo sommelier e jornalista João Lombardo. Um encontro descontraído e didático\, voltado para pessoas que querem\, sem complicações\, informações sobre os estilos e técnicas de degustação de vinho. O programa contempla: \n• Breve história do vinho \n• Técnicas de produção e estilos \n• Serviço \n• Degustação e análise sensorial \n
URL:https://agendadovinho.com.br/event/iniciacao-ao-vinho-2/
LOCATION:Vineria 401\, Rod. José Carlos Daux\, 5500 - 10 - Saco Grande\, Florianópolis\, SC\, 88032-005\, Brasil
CATEGORIES:Curso técnico,SC - Florianópolis
ATTACH;FMTTYPE=image/jpeg:https://agendadovinho.com.br/wp-content/uploads/2020/03/iniciacao-ao-vinho_100320.jpg
END:VEVENT
END:VCALENDAR