BEGIN:VCALENDAR
VERSION:2.0
PRODID:-//Agenda do Vinho - ECPv4.9.0//NONSGML v1.0//EN
CALSCALE:GREGORIAN
METHOD:PUBLISH
X-WR-CALNAME:Agenda do Vinho
X-ORIGINAL-URL:https://agendadovinho.com.br
X-WR-CALDESC:Eventos para Agenda do Vinho
BEGIN:VEVENT
DTSTART;TZID=America/Sao_Paulo:20190925T193000
DTEND;TZID=America/Sao_Paulo:20190925T220000
DTSTAMP:20260419T131718
CREATED:20190830T190506Z
LAST-MODIFIED:20190830T190506Z
UID:7607-1569439800-1569448800@agendadovinho.com.br
SUMMARY:Iniciação ao Universo do Vinho - Turma II EXTRA
DESCRIPTION:CURSO – INICIAÇÃO AO UNIVERSO DO VINHO COM DEGUSTAÇÃO E HARMONIZAÇÃO\nTurma II EXTRA \nBem vindo ao Universo do Vinho – Workshop Básico I \nCom o objetivo em promover um curso introdutório destinado a consumidores entusiastas que queiram aprender a degustar vinhos\, essa será uma oportunidade imperdível! \nConvidamos a Sommelier Amanda Loyo para uma noite descontraída e de bate papo\, na qual vamos introduzir os conceitos do universo do vinho! \nE a melhor parte de disso tudo? Que além de uma aula de peso\, teremos degustação de 04 rótulos com um menu degustação harmonizado e elaborado pela Chef e proprietária do Nosso Empório e Bistrô\, Sofia Mota. Afinal\, de pratos incríveis ela também entende\, né?! \nO que será ensinado: \n\nDefinição;\nTipos de vinho;\nEstilo de vinhos;\nPrincipais castas;\nEtapas da vinificação;\nA técnica da degustação (Análise visual\, olfativa\, gustativa);\nHarmonização;\nAinda conversaremos sobre todas as dúvidas que venham a surgir nesse encontro.\n\nVagas limitadas!! \n
URL:https://agendadovinho.com.br/event/iniciacao-ao-universo-do-vinho-turma-ii-extra/
LOCATION:Nosso Bistrô & Empório\, R. Alfredo Fernandes\, 61 - Casa Forte\, Recife\, PE\, 52060-320\, Brasil
CATEGORIES:Curso técnico,PE - Recife
ATTACH;FMTTYPE=image/jpeg:https://agendadovinho.com.br/wp-content/uploads/2019/08/iniciacao-ao-universo-do-vinho_250919.jpg
END:VEVENT
END:VCALENDAR