BEGIN:VCALENDAR
VERSION:2.0
PRODID:-//Agenda do Vinho - ECPv4.9.0//NONSGML v1.0//EN
CALSCALE:GREGORIAN
METHOD:PUBLISH
X-WR-CALNAME:Agenda do Vinho
X-ORIGINAL-URL:https://agendadovinho.com.br
X-WR-CALDESC:Eventos para Agenda do Vinho
BEGIN:VEVENT
DTSTART;TZID=America/Sao_Paulo:20200326T190000
DTEND;TZID=America/Sao_Paulo:20200326T190000
DTSTAMP:20260425T203506
CREATED:20200311T202454Z
LAST-MODIFIED:20200311T202454Z
UID:12060-1585249200-1585249200@agendadovinho.com.br
SUMMARY:Iniciação ao mundo do vinho
DESCRIPTION:Workshop Iniciação no Mundo do Vinho \nR$ 160 por pessoa | R$ 300 casal \n
URL:https://agendadovinho.com.br/event/iniciacao-ao-mundo-do-vinho-2/
LOCATION:Bla’s\, Asa Norte Comércio Local Norte 406 bloco D Loja - Asa Norte\, Brasília\, DF\, 70847-540\, Brasil
CATEGORIES:Curso técnico,DF - Brasília
ATTACH;FMTTYPE=image/jpeg:https://agendadovinho.com.br/wp-content/uploads/2020/03/iniciação-ao-mundo-do-vinho_260320.jpg
END:VEVENT
END:VCALENDAR