BEGIN:VCALENDAR
VERSION:2.0
PRODID:-//Agenda do Vinho - ECPv4.9.0//NONSGML v1.0//EN
CALSCALE:GREGORIAN
METHOD:PUBLISH
X-WR-CALNAME:Agenda do Vinho
X-ORIGINAL-URL:https://agendadovinho.com.br
X-WR-CALDESC:Eventos para Agenda do Vinho
BEGIN:VEVENT
DTSTART;TZID=America/Sao_Paulo:20200910T203000
DTEND;TZID=America/Sao_Paulo:20200910T203000
DTSTAMP:20260425T165617
CREATED:20200907T155521Z
LAST-MODIFIED:20200907T155521Z
UID:15861-1599769800-1599769800@agendadovinho.com.br
SUMMARY:Indicações de origem e proteção do vinho
DESCRIPTION:10/set – 20:30 \n
URL:https://agendadovinho.com.br/event/indicacoes-de-origem-e-protecao-do-vinho/
LOCATION:Instagram
CATEGORIES:Curso técnico,Online
ATTACH;FMTTYPE=image/jpeg:https://agendadovinho.com.br/wp-content/uploads/2020/09/thewineschoolbrasil_080920.jpg
END:VEVENT
END:VCALENDAR