BEGIN:VCALENDAR
VERSION:2.0
PRODID:-//Agenda do Vinho - ECPv4.9.0//NONSGML v1.0//EN
CALSCALE:GREGORIAN
METHOD:PUBLISH
X-WR-CALNAME:Agenda do Vinho
X-ORIGINAL-URL:https://agendadovinho.com.br
X-WR-CALDESC:Eventos para Agenda do Vinho
BEGIN:VEVENT
DTSTART;TZID=America/Sao_Paulo:20200311T200000
DTEND;TZID=America/Sao_Paulo:20200311T200000
DTSTAMP:20260421T224941
CREATED:20200306T213744Z
LAST-MODIFIED:20200306T213744Z
UID:11881-1583956800-1583956800@agendadovinho.com.br
SUMMARY:Inauguração Viajeinovinho Brasília
DESCRIPTION:CONFRARIA VIAJEINOVINHO BRASILIA\nCom muita alegria estaremos juntos para Inauguração da Confraria Viajeinovinho Brasília no Rubayat dia 11/03 as 20hs\, valor por pessoa com tudo incluso\, reserva mediante depósito\nBanco do Brasil\nViajeinovinho\nJoao Guilherme F Colombo\nAg 1555-5\nC/c 36647-1\nCnpj 29.058.254/0001-42 \n  \n \n  \n \n
URL:https://agendadovinho.com.br/event/inauguracao-viajeinovinho-brasilia/
LOCATION:Rubaiyat Brasília\, 1 Esportivo Sul\, St. de Clubes Esportivos Sul\, Brasília\, DF\, 70200-001\, Brasil
CATEGORIES:DF - Brasília,Jantar harmonizado
ATTACH;FMTTYPE=image/jpeg:https://agendadovinho.com.br/wp-content/uploads/2020/03/e9a6d35b-3478-418e-a857-a18f874d62cd.jpg
END:VEVENT
END:VCALENDAR