BEGIN:VCALENDAR
VERSION:2.0
PRODID:-//Agenda do Vinho - ECPv4.9.0//NONSGML v1.0//EN
CALSCALE:GREGORIAN
METHOD:PUBLISH
X-WR-CALNAME:Agenda do Vinho
X-ORIGINAL-URL:https://agendadovinho.com.br
X-WR-CALDESC:Eventos para Agenda do Vinho
BEGIN:VEVENT
DTSTART;TZID=America/Sao_Paulo:20200328T090000
DTEND;TZID=America/Sao_Paulo:20200328T150000
DTSTAMP:20260425T221642
CREATED:20200312T180130Z
LAST-MODIFIED:20200312T180130Z
UID:12092-1585386000-1585407600@agendadovinho.com.br
SUMMARY:Imersão ao mundo dos vinhos - Modulo I
DESCRIPTION:# Na nossa imersão você vai vivenciar o mundo enogastronômico: \n\nVai aprender a escolher seu vinho em lojas e restaurantes;\nVai aprender sobre serviço dos vinhos;\nPercepções Sensoriais – irá mudar a sua forma degustar vinhos;\nQuanto a escolha do melhor vinho para cada ocasição.\n\n# O que contém no Módulo I? \n\nConhecendo as uvas Brancas e Tintas;\nAprenda a escolher o seu vinho;\nAprenda sobre serviço de vinhos;\nVinificação de Espumante\, Vinho Branco\, Rosê e Tinto;\nDegustação com ficha técnica;\nHarmonização de Espumante\, Vinho Branco\, Rosê e Tinto.\n\n# É destinado para: \n\nProfissionais das áreas de Restaurantes e bares;\nEstudantes;\nPublico que buscam conhecimento sobre vinhos;\nProfissionais que procuram por realinhamento de conhecimentos.\n\n# Conteúdos que serão discutidos: \n\nAspectos relacionados a Uva e ao Vinho;\nServiço internacional de Vinhos;\nHarmonização de alimentos e bebidas;\nOrientações de como escolher o seu vinho de forma correta.\n\n# Formato da formação: \n\n1 Encontro presencial – Imersão (6h)\n\n# Inclusos na inscrição: \n\nMateriais de apoio;\n1 encontro presencial;\nAlmoço Harmonizado;\nCertificado;\n\n
URL:https://agendadovinho.com.br/event/imersao-ao-mundo-dos-vinhos-modulo-i-3/
LOCATION:La Luna Escola Gastronômica\, Rua Frederico Lundgren\, 192\, Imbiribeira\, Recife\, PE\, Brasil
CATEGORIES:Curso técnico,PE - Recife
ATTACH;FMTTYPE=image/jpeg:https://agendadovinho.com.br/wp-content/uploads/2020/03/imersão-ao-mundo-dos-vinhos_280320.jpg
END:VEVENT
END:VCALENDAR