BEGIN:VCALENDAR
VERSION:2.0
PRODID:-//Agenda do Vinho - ECPv4.9.0//NONSGML v1.0//EN
CALSCALE:GREGORIAN
METHOD:PUBLISH
X-WR-CALNAME:Agenda do Vinho
X-ORIGINAL-URL:https://agendadovinho.com.br
X-WR-CALDESC:Eventos para Agenda do Vinho
BEGIN:VEVENT
DTSTART;TZID=America/Sao_Paulo:20200624T200000
DTEND;TZID=America/Sao_Paulo:20200624T200000
DTSTAMP:20260423T092921
CREATED:20200624T162133Z
LAST-MODIFIED:20200624T162133Z
UID:14536-1593028800-1593028800@agendadovinho.com.br
SUMMARY:Harmonização de queijos e vinhos
DESCRIPTION:24/06 – 20h \n
URL:https://agendadovinho.com.br/event/harmonizacao-de-queijos-e-vinhos-3/
LOCATION:Instagram
CATEGORIES:Curso técnico,Online
ATTACH;FMTTYPE=image/jpeg:https://agendadovinho.com.br/wp-content/uploads/2020/06/winelover_br_240620.jpg
END:VEVENT
END:VCALENDAR