BEGIN:VCALENDAR
VERSION:2.0
PRODID:-//Agenda do Vinho - ECPv4.9.0//NONSGML v1.0//EN
CALSCALE:GREGORIAN
METHOD:PUBLISH
X-WR-CALNAME:Agenda do Vinho
X-ORIGINAL-URL:https://agendadovinho.com.br
X-WR-CALDESC:Eventos para Agenda do Vinho
BEGIN:VEVENT
DTSTART;TZID=America/Sao_Paulo:20190725T190000
DTEND;TZID=America/Sao_Paulo:20190725T210000
DTSTAMP:20260419T143901
CREATED:20190723T150432Z
LAST-MODIFIED:20190723T150432Z
UID:5876-1564081200-1564088400@agendadovinho.com.br
SUMMARY:Happy Wine
DESCRIPTION:Happy Wine nesta quinta-feira\, dia 25 de julho.\nVamos degustar vinhos franceses e comidinhas elaboradas pelo casal @cozinhando_adois\nR$ 150\,00 por pessoa\nIncluso vinhos\, água\, orientações e comidinhas!\nDas 19 às 21h na Av MT\nReservas pelo WhatsApp: 65-98416-0583 \n
URL:https://agendadovinho.com.br/event/happy-wine/
LOCATION:Viña Bebidas Finas\, Av. Mato Grosso\, 615 - Centro Norte\, Cuiabá\, MT\, 78005-030\, Brasil
CATEGORIES:Degustação,MT - Cuiabá
ATTACH;FMTTYPE=image/jpeg:https://agendadovinho.com.br/wp-content/uploads/2019/07/happy-wine_250719.jpg
END:VEVENT
END:VCALENDAR