BEGIN:VCALENDAR
VERSION:2.0
PRODID:-//Agenda do Vinho - ECPv4.9.0//NONSGML v1.0//EN
CALSCALE:GREGORIAN
METHOD:PUBLISH
X-WR-CALNAME:Agenda do Vinho
X-ORIGINAL-URL:https://agendadovinho.com.br
X-WR-CALDESC:Eventos para Agenda do Vinho
BEGIN:VEVENT
DTSTART;TZID=America/Sao_Paulo:20200416T213000
DTEND;TZID=America/Sao_Paulo:20200416T213000
DTSTAMP:20260425T214047
CREATED:20200416T162439Z
LAST-MODIFIED:20200416T162439Z
UID:12588-1587072600-1587072600@agendadovinho.com.br
SUMMARY:Happy Hour Virtual
DESCRIPTION:@reserva85 vai bater um papo com o super chef Guga Rocha. Irão falar sobre a gastronomia e os vinhos brasileiros. \n
URL:https://agendadovinho.com.br/event/happy-hour-virtual/
LOCATION:Instagram
CATEGORIES:Curso técnico,Online
ATTACH;FMTTYPE=image/jpeg:https://agendadovinho.com.br/wp-content/uploads/2020/04/reserva85_160420.jpg
END:VEVENT
END:VCALENDAR