BEGIN:VCALENDAR
VERSION:2.0
PRODID:-//Agenda do Vinho - ECPv4.9.0//NONSGML v1.0//EN
CALSCALE:GREGORIAN
METHOD:PUBLISH
X-WR-CALNAME:Agenda do Vinho
X-ORIGINAL-URL:https://agendadovinho.com.br
X-WR-CALDESC:Eventos para Agenda do Vinho
BEGIN:VEVENT
DTSTART;TZID=UTC-3:20190422T170000
DTEND;TZID=UTC-3:20190422T230000
DTSTAMP:20260419T193402
CREATED:20190422T032255Z
LAST-MODIFIED:20190422T032255Z
UID:2291-1555952400-1555974000@agendadovinho.com.br
SUMMARY:Happy Hour por 25 reais com vinho
DESCRIPTION:*Happy Hour* \nApós um dia de trabalho\, nada melhor do que relaxar com amigos\, no nosso happy hour! \nVenha degustar uma taça de vinho com uma porção de mini raclette (aperitivo inspirado em prato suíço) acompanhado por uma taça de 150 ml do vinho de sua preferência. \nOs rótulos de vinho são: \nEspumante nacional: CZARNOBAY -BRUT. (PREMIADO 90 PONTOS PELO DESCORCHADOS) \nVinho tinto: L. Tramier CÓTES DU RHÔNE – FRANÇA \nVinho branco: DORADO CHARDONNAY – ARGENTINA \nINVESTIMENTO : \nR$: 25\,00 por pessoa \nQUANDO: \nDe segunda á quarta feira. \nMarço dias: \n19-20-25-26-27 \nAbril dias: \n01-02-03-08-09-10-15-16-17-22-23-24-29-30 \nMaio dias: \n06-07-08-13-14-15-20-21-22-27-28-29 \n  \n
URL:https://agendadovinho.com.br/event/happy-hour-por-25-reais-com-vinho/
LOCATION:Cave Suíça\, Rua João Ramalho\, 1392\, São Paulo\, SP\, Brasil
CATEGORIES:Degustação limitada,SP - São Paulo
ATTACH;FMTTYPE=image/png:https://agendadovinho.com.br/wp-content/uploads/2019/04/cave-suica_220419-e1556067526222.png
END:VEVENT
END:VCALENDAR