BEGIN:VCALENDAR
VERSION:2.0
PRODID:-//Agenda do Vinho - ECPv4.9.0//NONSGML v1.0//EN
CALSCALE:GREGORIAN
METHOD:PUBLISH
X-WR-CALNAME:Agenda do Vinho
X-ORIGINAL-URL:https://agendadovinho.com.br
X-WR-CALDESC:Eventos para Agenda do Vinho
BEGIN:VEVENT
DTSTART;TZID=America/Sao_Paulo:20200522T190000
DTEND;TZID=America/Sao_Paulo:20200522T190000
DTSTAMP:20260426T023950
CREATED:20200519T155502Z
LAST-MODIFIED:20200519T155502Z
UID:13528-1590174000-1590174000@agendadovinho.com.br
SUMMARY:Happy Hour com vinhos em casa
DESCRIPTION:22/05 – 19h \n
URL:https://agendadovinho.com.br/event/happy-hour-com-vinhos-em-casa/
LOCATION:Instagram
CATEGORIES:Online,Outros
ATTACH;FMTTYPE=image/jpeg:https://agendadovinho.com.br/wp-content/uploads/2020/05/somm.nataliagaion_220520.jpg
END:VEVENT
END:VCALENDAR