BEGIN:VCALENDAR
VERSION:2.0
PRODID:-//Agenda do Vinho - ECPv4.9.0//NONSGML v1.0//EN
CALSCALE:GREGORIAN
METHOD:PUBLISH
X-WR-CALNAME:Agenda do Vinho
X-ORIGINAL-URL:https://agendadovinho.com.br
X-WR-CALDESC:Eventos para Agenda do Vinho
BEGIN:VEVENT
DTSTART;TZID=America/Sao_Paulo:20200418T193000
DTEND;TZID=America/Sao_Paulo:20200418T193000
DTSTAMP:20260426T041312
CREATED:20200415T152243Z
LAST-MODIFIED:20200415T152243Z
UID:12552-1587238200-1587238200@agendadovinho.com.br
SUMMARY:Guaspari: a história\, os vinhos\, os desafios
DESCRIPTION:No sábado\, dia 18/04\, às 19h30\, @davinha_aovinho receberá @luizbarbui . Desde 2015\, Luiz concentra sua expertise na @vinicolaguaspari \, onde hoje atua como diretor de produtos e desenvolvimento. Formado pela @wsetglobal em Londres e técnico em Enologia em Budapest\, com mais de 15 anos de experiência na Europa\, trabalhou em diversas vinícolas na Europa\, incluindo Itália e Hungria\, até pousar novamente no Brasil\, na Guaspari. A vinícola\, localizada no Espírito Santo do Pinhal\, em SP\, é uma das que mais se destacam atualmente no mercado nacional. Produzindo vinhos de expressão do terroir\, de muita qualidade e extremamente modernos\, a @vinicolaguaspari desponta como uma das grandes promessas para a consolidação\, nacional e internacional\, da reputação do vinho do Brasil. \n
URL:https://agendadovinho.com.br/event/guaspari-a-historia-os-vinhos-os-desafios/
LOCATION:Instagram
CATEGORIES:Curso técnico,Online
ATTACH;FMTTYPE=image/jpeg:https://agendadovinho.com.br/wp-content/uploads/2020/04/davinha_aovinho_180420_2.jpg
END:VEVENT
END:VCALENDAR