BEGIN:VCALENDAR
VERSION:2.0
PRODID:-//Agenda do Vinho - ECPv4.9.0//NONSGML v1.0//EN
CALSCALE:GREGORIAN
METHOD:PUBLISH
X-WR-CALNAME:Agenda do Vinho
X-ORIGINAL-URL:https://agendadovinho.com.br
X-WR-CALDESC:Eventos para Agenda do Vinho
BEGIN:VEVENT
DTSTART;TZID=America/Sao_Paulo:20200603T210000
DTEND;TZID=America/Sao_Paulo:20200603T210000
DTSTAMP:20260425T133120
CREATED:20200603T144942Z
LAST-MODIFIED:20200603T144942Z
UID:13882-1591218000-1591218000@agendadovinho.com.br
SUMMARY:Geórgia\, o berço do vinho
DESCRIPTION:03/06 – 21h \n
URL:https://agendadovinho.com.br/event/georgia-o-berco-do-vinho/
LOCATION:Instagram
CATEGORIES:Curso técnico,Online
ATTACH;FMTTYPE=image/jpeg:https://agendadovinho.com.br/wp-content/uploads/2020/06/liliveloso_030620.jpg
END:VEVENT
END:VCALENDAR