BEGIN:VCALENDAR
VERSION:2.0
PRODID:-//Agenda do Vinho - ECPv4.9.0//NONSGML v1.0//EN
CALSCALE:GREGORIAN
METHOD:PUBLISH
X-WR-CALNAME:Agenda do Vinho
X-ORIGINAL-URL:https://agendadovinho.com.br
X-WR-CALDESC:Eventos para Agenda do Vinho
BEGIN:VEVENT
DTSTART;TZID=America/Sao_Paulo:20201013T190000
DTEND;TZID=America/Sao_Paulo:20201013T203000
DTSTAMP:20260423T091729
CREATED:20200819T160608Z
LAST-MODIFIED:20200819T160608Z
UID:15699-1602615600-1602621000@agendadovinho.com.br
SUMMARY:FWS Online
DESCRIPTION:13/out – 19:00 \n
URL:https://agendadovinho.com.br/event/fws-online/
LOCATION:Vídeo conferência
CATEGORIES:Curso técnico,Online
ATTACH;FMTTYPE=image/jpeg:https://agendadovinho.com.br/wp-content/uploads/2020/08/eno_cultura_131020.jpg
END:VEVENT
END:VCALENDAR