BEGIN:VCALENDAR
VERSION:2.0
PRODID:-//Agenda do Vinho - ECPv4.9.0//NONSGML v1.0//EN
CALSCALE:GREGORIAN
METHOD:PUBLISH
X-WR-CALNAME:Agenda do Vinho
X-ORIGINAL-URL:https://agendadovinho.com.br
X-WR-CALDESC:Eventos para Agenda do Vinho
BEGIN:VEVENT
DTSTART;TZID=America/Sao_Paulo:20200122T193000
DTEND;TZID=America/Sao_Paulo:20200122T220000
DTSTAMP:20260426T031053
CREATED:20200110T142727Z
LAST-MODIFIED:20200110T142727Z
UID:10538-1579721400-1579730400@agendadovinho.com.br
SUMMARY:Francis Ford Coppola - Wine Tasting Premium na Vineria 1976
DESCRIPTION:Vinho\, arte\, cinema\, turismo: nada é mais conceitual do que a vinícola do “Poderoso Chefão”. \nVamos vivenciar sabores entre histórias da máfia contada na tela\, da arte da vida deste grande cineasta\, Francis Ford Coppola. \nA enóloga Maria Amélia Duarte Flores convida a este menu de experiência\, neste lugar inspirador\, a Vineria 1976. \nUma boa massa para aguçar os sentidos neste bate-papo que vai trazer a discussão Califórnia e Sul da Itália\, as origens que nos unem\, a inspiração de filmes e muitas dicas de turismo na região da Califórnia! \nA apresentação é da enóloga Maria Amélia Duarte Flores! Participe! \nBoas Vindas \nEspumantes Villa Matarazzo – cineasta Jayme Monjardim \nEntradas: \nQueijo feta folhado com mel e nozes \nCeviche de Polvo: Polvo\, leite de tigre\, fruta da estação e chips. \nDegustação: \nDirector’s Cut Pinot Noir 2011 Russian River Valley \nPrato Principal: \nAGNOLOTTI DI MOZZARELLA E BASILICO \nAgnolotti é uma massa recheada\, tradicional do Piemonte. Nossa versão é de muçarela e manjericão\, com molho de tomate defumado\, queijo feta\, cogumelo in natura. \nDirector’s Cut Merlot 2011 Sonoma County \nCoppola Diamond Cabernet Sauvignon 2012 \nSobremesa: \nProfiteroles de choco meio amargo e semi freddo de mousse de chocolate \nCoppola Diamond Scarlet Label 2010 (blend a base de Zinfandel) \n\nData: 22 de janeiro\, 20h \nLocal: Vineria 1976 (Praça Mauricio Cardoso\, 49 – Moinhos de Vento) \nValor: R$ 250\,00 + tx \nInclui menu completo\, água e degustação dos vinhos \nInformações: 051 99331 6098 \n
URL:https://agendadovinho.com.br/event/francis-ford-coppola-wine-tasting-premium-na-vineria-1976/
LOCATION:Vineria1976\, Praça Dr. Maurício Cardoso\, 49 - Moinhos de Vento\, Porto Alegre\, RS\, 90570-010\, Brasil
CATEGORIES:Jantar harmonizado,RS - Porto Alegre
ATTACH;FMTTYPE=image/jpeg:https://agendadovinho.com.br/wp-content/uploads/2020/01/francis-ford-coppola_220120.jpg
END:VEVENT
END:VCALENDAR