BEGIN:VCALENDAR
VERSION:2.0
PRODID:-//Agenda do Vinho - ECPv4.9.0//NONSGML v1.0//EN
CALSCALE:GREGORIAN
METHOD:PUBLISH
X-WR-CALNAME:Agenda do Vinho
X-ORIGINAL-URL:https://agendadovinho.com.br
X-WR-CALDESC:Eventos para Agenda do Vinho
BEGIN:VEVENT
DTSTART;TZID=America/Sao_Paulo:20210319T193000
DTEND;TZID=America/Sao_Paulo:20210319T220000
DTSTAMP:20260423T015436
CREATED:20210315T152417Z
LAST-MODIFIED:20210315T152417Z
UID:17243-1616182200-1616191200@agendadovinho.com.br
SUMMARY:FRANÇA - Curso de Degustação de vinhos Franceses
DESCRIPTION:19/mar – 19:30 \n
URL:https://agendadovinho.com.br/event/franca-curso-de-degustacao-de-vinhos-franceses/
LOCATION:Vídeo conferência
CATEGORIES:Curso técnico,Online
ATTACH;FMTTYPE=image/jpeg:https://agendadovinho.com.br/wp-content/uploads/2021/03/frança_190321.jpg
END:VEVENT
END:VCALENDAR