BEGIN:VCALENDAR
VERSION:2.0
PRODID:-//Agenda do Vinho - ECPv4.9.0//NONSGML v1.0//EN
CALSCALE:GREGORIAN
METHOD:PUBLISH
X-WR-CALNAME:Agenda do Vinho
X-ORIGINAL-URL:https://agendadovinho.com.br
X-WR-CALDESC:Eventos para Agenda do Vinho
BEGIN:VEVENT
DTSTART;TZID=America/Sao_Paulo:20200308T193000
DTEND;TZID=America/Sao_Paulo:20200308T193000
DTSTAMP:20260425T183246
CREATED:20201030T145708Z
LAST-MODIFIED:20201030T145708Z
UID:16426-1583695800-1583695800@agendadovinho.com.br
SUMMARY:FORMAÇÃO DE SOMMELIERS E PROFISSIONAIS
DESCRIPTION:08/mar – 19:30 \n
URL:https://agendadovinho.com.br/event/formacao-de-sommeliers-e-profissionais/
LOCATION:ABS Campinas\, R. Boaventura do Amaral\, 1274 - Centro\, Campinas\, SP\, Brasil
CATEGORIES:Curso técnico,SP - Demais cidades
ATTACH;FMTTYPE=image/jpeg:https://agendadovinho.com.br/wp-content/uploads/2020/10/abs_campinas_080320.jpg
END:VEVENT
END:VCALENDAR