BEGIN:VCALENDAR
VERSION:2.0
PRODID:-//Agenda do Vinho - ECPv4.9.0//NONSGML v1.0//EN
CALSCALE:GREGORIAN
METHOD:PUBLISH
X-WR-CALNAME:Agenda do Vinho
X-ORIGINAL-URL:https://agendadovinho.com.br
X-WR-CALDESC:Eventos para Agenda do Vinho
BEGIN:VEVENT
DTSTART;TZID=America/Sao_Paulo:20200319T190000
DTEND;TZID=America/Sao_Paulo:20200319T210000
DTSTAMP:20260425T183131
CREATED:20200306T213518Z
LAST-MODIFIED:20200306T213518Z
UID:11880-1584644400-1584651600@agendadovinho.com.br
SUMMARY:Fonética dos vinhos
DESCRIPTION:Venha fazer parte de nosso primeiro “Ateliê Frances entre Vinhos”\n* regras de pronuncia\n*leitura de rótulos dos vinhos\n*vocabulário de restaurante\n*vocabulário básico iniciante\n*harmonização\n*serviço e degustação \nKarina Noçais é formada pela PUC_SP \, professora de francês há mais de 15 anos e é sommelier pela SBAV e Wine school \nRegina Colombo Sommeliere Wset2\, ABS1 \, ISG1\, presidente e fundadora da confraria nacional viajeinovinho \nCarga horária 8hs \, 4 aulas\, 4 vinhos (Cremant\, Chablis\, Rose\, Tinto)  harmonização\,  incluso 1 taça de cristal Viajeinovinho com caixa para transporte\, apostila e certificado \nValor R$450\,00 em 2 x no cartão ou 5% a vista \nATENÇÃO membros da confraria viajeinovinho pagando até dia 05/03 terão 10% de desconto \nDatas das aulas : 19/03 quinta\, 26/03 quinta\, 02/04 quinta  09/04 quinta\nDas 19hs as 21hs \n
URL:https://agendadovinho.com.br/event/fonetica-dos-vinhos/
LOCATION:R. dos Macunis\, 68\, R. dos Macunis\, 68\, São Paulo\, SP\, Brasil
CATEGORIES:Curso técnico,SP - São Paulo
ATTACH;FMTTYPE=image/jpeg:https://agendadovinho.com.br/wp-content/uploads/2020/03/fonética-dos-vinhos_190320.jpg
END:VEVENT
END:VCALENDAR