BEGIN:VCALENDAR
VERSION:2.0
PRODID:-//Agenda do Vinho - ECPv4.9.0//NONSGML v1.0//EN
CALSCALE:GREGORIAN
METHOD:PUBLISH
X-WR-CALNAME:Agenda do Vinho
X-ORIGINAL-URL:https://agendadovinho.com.br
X-WR-CALDESC:Eventos para Agenda do Vinho
BEGIN:VEVENT
DTSTART;TZID=America/Sao_Paulo:20191123T120000
DTEND;TZID=America/Sao_Paulo:20191123T235900
DTSTAMP:20260426T042543
CREATED:20191120T155733Z
LAST-MODIFIED:20191120T155733Z
UID:9804-1574510400-1574553540@agendadovinho.com.br
SUMMARY:Flight de Vinhos Jorge Luckie | Itália
DESCRIPTION:\nAPÓS A COMPRA\, FAVOR ENTRAR EM CONTATO PELO TELEFONE 3227-3009 PARA GARANTIR A RESERVA DA SUA MESA.\n\n\nFlight de Vinhos Jorge Luckie | Itália\n\n– Nicosia Nerello Mascalese\n– ‘ ‘Le More’ Sangiovese\n– ‘ ‘Tosca’ Chianti Colli Senesi\n\n 3 TAÇAS DE VINHO (125 ML DE CADA)\n\n\n\nDATAS: 19 A 23 DE NOVEMBRO\n\n\nHORÁRIO: SEGUNDA A SÁBADO DAS 12 ÀS 24 HORAS\n\n\n\nLOCAL: ZAHIL | REX BIBENDI | RUA ANTÔNIO DE ALBUQUERQUE 917 | SAVASSI\n\n
URL:https://agendadovinho.com.br/event/flight-de-vinhos-jorge-luckie-italia/
LOCATION:Rex Bibendi\, Rua Antônio de Albuquerque \, 917\, Savassi\, Belo Horizonte\, MG\, Brasil
CATEGORIES:Degustação,MG - Belo Horizonte
ATTACH;FMTTYPE=image/png:https://agendadovinho.com.br/wp-content/uploads/2019/11/jorge-lucki_231119.png
END:VEVENT
END:VCALENDAR