BEGIN:VCALENDAR
VERSION:2.0
PRODID:-//Agenda do Vinho - ECPv4.9.0//NONSGML v1.0//EN
CALSCALE:GREGORIAN
METHOD:PUBLISH
X-WR-CALNAME:Agenda do Vinho
X-ORIGINAL-URL:https://agendadovinho.com.br
X-WR-CALDESC:Eventos para Agenda do Vinho
BEGIN:VEVENT
DTSTART;TZID=America/Sao_Paulo:20190426T120000
DTEND;TZID=America/Sao_Paulo:20190426T235900
DTSTAMP:20260419T204714
CREATED:20190426T172528Z
LAST-MODIFIED:20190426T174320Z
UID:2617-1556280000-1556323140@agendadovinho.com.br
SUMMARY:Flight de Vinhos Jerez | Espanha
DESCRIPTION:\nAPÓS A COMPRA\, FAVOR ENTRAR EM CONTATO PELO TELEFONE 3227-3009 PARA GARANTIR A RESERVA DA SUA MESA.\n\n\nFlight de Vinhos Jerez | Espanha\n\nVinhos que compõem o Flight – 3 TAÇAS DE VINHO (125 ML DE CADA)\n– Real Tesouro Fino\n– La Guita Mazanilla\n– Inocente Fino\n\n\n\n\nDATAS: 22 a 27 de ABRIL\n\n\nHORÁRIO: SEGUNDA A SÁBADO DAS 12 ÀS 24 HORAS\n\n\nLOCAL: ZAHIL | REX BIBENDI | RUA ANTÔNIO DE ALBUQUERQUE 917 | SAVASSI\n\n
URL:https://agendadovinho.com.br/event/flight-de-vinhos-jerez-espanha/
LOCATION:Rex Bibendi\, Rua Antônio de Albuquerque \, 917\, Savassi\, Belo Horizonte\, MG\, Brasil
CATEGORIES:Degustação limitada,MG - Belo Horizonte
ATTACH;FMTTYPE=image/png:https://agendadovinho.com.br/wp-content/uploads/2019/04/jerez_230419.png
END:VEVENT
END:VCALENDAR