BEGIN:VCALENDAR
VERSION:2.0
PRODID:-//Agenda do Vinho - ECPv4.9.0//NONSGML v1.0//EN
CALSCALE:GREGORIAN
METHOD:PUBLISH
X-WR-CALNAME:Agenda do Vinho
X-ORIGINAL-URL:https://agendadovinho.com.br
X-WR-CALDESC:Eventos para Agenda do Vinho
BEGIN:VEVENT
DTSTART;TZID=America/Sao_Paulo:20191005T190000
DTEND;TZID=America/Sao_Paulo:20191005T235900
DTSTAMP:20260419T163026
CREATED:20191002T222839Z
LAST-MODIFIED:20191002T222839Z
UID:8760-1570302000-1570319940@agendadovinho.com.br
SUMMARY:Flight de Vinhos da Primavera
DESCRIPTION:APÓS A COMPRA\, FAVOR ENTRAR EM CONTATO PELO TELEFONE 3227-3009 PARA GARANTIR A RESERVA DA SUA MESA. \nJá é Primavera no hemisfério Sul. Nesta estação\, em qualquer parte do mundo\, as flores são sempre bem vindas. E para acompanhar\, esses 3 rótulos do mais tradicional mundo dos vinhos. \n– Cantarutti Pinot Grigio\n– Le Jaja de Jau Rosé de Syrah\n– Esteva \n3 TAÇAS DE VINHO (125 ML DE CADA) \nDATAS: 30 DE SETEMBRO A 5 DE OUTUBRO\nHORÁRIO: SEGUNDA A SÁBADO DAS 12 ÀS 24 HORAS\nLOCAL: ZAHIL | REX BIBENDI | RUA ANTÔNIO DE ALBUQUERQUE 917 | SAVASSI \n
URL:https://agendadovinho.com.br/event/flight-de-vinhos-da-primavera/
LOCATION:Rex Bibendi\, Rua Antônio de Albuquerque \, 917\, Savassi\, Belo Horizonte\, MG\, Brasil
CATEGORIES:Degustação,MG - Belo Horizonte
ATTACH;FMTTYPE=image/jpeg:https://agendadovinho.com.br/wp-content/uploads/2019/10/vinhos-de-primavera_051019.jpg
END:VEVENT
END:VCALENDAR