BEGIN:VCALENDAR
VERSION:2.0
PRODID:-//Agenda do Vinho - ECPv4.9.0//NONSGML v1.0//EN
CALSCALE:GREGORIAN
METHOD:PUBLISH
X-WR-CALNAME:Agenda do Vinho
X-ORIGINAL-URL:https://agendadovinho.com.br
X-WR-CALDESC:Eventos para Agenda do Vinho
BEGIN:VEVENT
DTSTART;TZID=America/Sao_Paulo:20200507T150000
DTEND;TZID=America/Sao_Paulo:20200507T150000
DTSTAMP:20260426T005435
CREATED:20200505T155344Z
LAST-MODIFIED:20200505T155344Z
UID:13158-1588863600-1588863600@agendadovinho.com.br
SUMMARY:Filipa Pato - Passos futuros para Portugal e real potencial de Baga e Bical
DESCRIPTION:07/05 – 15h. \n
URL:https://agendadovinho.com.br/event/filipa-pato-passos-futuros-para-portugal-e-real-potencial-de-baga-e-bical/
LOCATION:Instagram
CATEGORIES:Curso técnico,Online
ATTACH;FMTTYPE=image/jpeg:https://agendadovinho.com.br/wp-content/uploads/2020/05/eno_cultura_050520.jpg
END:VEVENT
END:VCALENDAR