BEGIN:VCALENDAR
VERSION:2.0
PRODID:-//Agenda do Vinho - ECPv4.9.0//NONSGML v1.0//EN
CALSCALE:GREGORIAN
METHOD:PUBLISH
X-WR-CALNAME:Agenda do Vinho
X-ORIGINAL-URL:https://agendadovinho.com.br
X-WR-CALDESC:Eventos para Agenda do Vinho
BEGIN:VEVENT
DTSTART;TZID=America/Sao_Paulo:20200327T200000
DTEND;TZID=America/Sao_Paulo:20200327T230000
DTSTAMP:20260425T170853
CREATED:20200226T174723Z
LAST-MODIFIED:20200226T174723Z
UID:11460-1585339200-1585350000@agendadovinho.com.br
SUMMARY:Festival de Vinhos Wine Out - BEBA O QUANTO AGUENTAR
DESCRIPTION:*Festival de Vinhos Wine Out* \n*NÃO É DEGUSTAÇÃO* \n*BEBA O QUANTO AGUENTAR* \n+ de 30 rótulos de diversos países a disposição para os participantes beberem à vontade..  \nDATA DO EVENTO: 27 e 28 de Março \nLOCAL: Vision Offices  \nAv. Embaixador Abelardo Bueno\, 3500\, Barra da Tijuca (em frente ao Parque Olímpico) \nHORÁRIOS: \n27/03:\nSessão única – 20h às 23h \n28/03: \n1ª sessão – 16h às 19h \n2ª sessão – 20h às 23h \n\nLOTES PROMOCIONAIS ANTECIPADOS APENAS PELO SITE \nwww.wineout.com.br/eventos \n1º lote – R$ 60 \n2º lote – R$ 70 \n3º lote – R$ 80 \n4º lote – R$ 100 \nPermitida a entrada somente de maiores de 18 anos. \n
URL:https://agendadovinho.com.br/event/festival-de-vinhos-wine-out-beba-o-quanto-aguentar/
LOCATION:Espaço Vision Offices\, Av. Embaixador Abelardo Bueno\, 3500 - Barra da Tijuca\, Rio de Janeiro\, RJ\, Brasil
CATEGORIES:Degustação,RJ - Rio de Janeiro
ATTACH;FMTTYPE=image/jpeg:https://agendadovinho.com.br/wp-content/uploads/2020/02/755D6DF8-DA7C-424B-B7F6-2DA005DCEF1B.jpeg
END:VEVENT
END:VCALENDAR