BEGIN:VCALENDAR
VERSION:2.0
PRODID:-//Agenda do Vinho - ECPv4.9.0//NONSGML v1.0//EN
CALSCALE:GREGORIAN
METHOD:PUBLISH
X-WR-CALNAME:Agenda do Vinho
X-ORIGINAL-URL:https://agendadovinho.com.br
X-WR-CALDESC:Eventos para Agenda do Vinho
BEGIN:VEVENT
DTSTART;TZID=America/Sao_Paulo:20191005T203000
DTEND;TZID=America/Sao_Paulo:20191005T235900
DTSTAMP:20260419T122809
CREATED:20190804T190303Z
LAST-MODIFIED:20190804T190303Z
UID:6445-1570307400-1570319940@agendadovinho.com.br
SUMMARY:Festival de Vinhos e Espumantes
DESCRIPTION:No dia 05 de outubro\, a partir das 20h30\, Caxias do Sul recebe o já tradicional Festival de Vinhos & Espumantes\, que chega a sua 13ª edição com fôlego de sobra. \n\nDedicado a incentivar\, difundir e fortalecer a vitivinicultura na Serra Gaúcha\, o evento\, realizado pela distribuidora caxiense São Pelegrino Bebidas\, conta com a participação de 12 vinícolas regionais que apresentam seus vinhos e mais de 50 rótulos importados dos mais variados países\, como França\, Itália\, Espanha\, Chile\, Argentina\, entre outros. \n\nAlém das bebidas\, o público degustará queijos\, pães\, pastas\, embutidos e dois pratos quentes (massa e risoto)\, em uma gastronomia completa e deliciosa assinada pelo Jockey Clube Multieventos. \nA venda do primeiro lote de ingressos vai até 06/09\, a R$ 170\,00 por pessoa. \n\nÉ uma oportunidade de ouro para apreciar novos sabores ou mesmo bater aquele bate-papo descontraído sobre o mundo dos vinhos. \n\nPara mais informações\, os interessados devem visitar a loja (Avenida Itália\, 168 | São Pelegrino)\, entrar em contato por telefone (3221.8912) ou e-mail (thiago@saopelegrinobebidas.com.br). \nOs ingressos também podem ser adquiridos no site do Sympla. \n
URL:https://agendadovinho.com.br/event/festival-de-vinhos-e-espumantes/
LOCATION:Jockey Clube Multi Eventos\, Rua Guerino Zugno\, 440-554\, Forqueta\, Caxias do Sul\, RS\, Brasil
CATEGORIES:Degustação,RS - Demais cidades
ATTACH;FMTTYPE=image/png:https://agendadovinho.com.br/wp-content/uploads/2019/08/festival-de-vinhos-e-espumantes_051019.png
END:VEVENT
END:VCALENDAR