BEGIN:VCALENDAR
VERSION:2.0
PRODID:-//Agenda do Vinho - ECPv4.9.0//NONSGML v1.0//EN
CALSCALE:GREGORIAN
METHOD:PUBLISH
X-WR-CALNAME:Agenda do Vinho
X-ORIGINAL-URL:https://agendadovinho.com.br
X-WR-CALDESC:Eventos para Agenda do Vinho
BEGIN:VEVENT
DTSTART;TZID=America/Sao_Paulo:20191123T110000
DTEND;TZID=America/Sao_Paulo:20191123T220000
DTSTAMP:20260426T011847
CREATED:20191111T135637Z
LAST-MODIFIED:20191111T135637Z
UID:9634-1574506800-1574546400@agendadovinho.com.br
SUMMARY:Feira de Vinhos Restaurante Soir
DESCRIPTION:Você também está sempre inventando uma desculpa para beber vinho? Então venha participar da nossa Feira de Vinhos \nVocê também está sempre inventando uma desculpa para beber vinho? Então venha participar da nossa Feira de Vinhos\, edição vinhos do mundo\, e passar uma tarde de sábado gostosa com a gente no dia 23 de novembro à partir das 11:00! \nTe esperamos com 32 rótulos de vinhos de fornecedores diferenciados\, música ao vivo\, degustação de frios harmonizado e um ambiente maravilhoso!\nE o melhor\, a entrada é gratuita! \nAnota ai o dia\, e já compartilha a dica com os amigos: \n– Data 23/11 (sábado)\, a partir de 11:00 \n– Av. Princesa Diana\, 440 – Alphaville\, Lagoa dos Ingleses \n– Aceitamos cartões de crédito e débito – Entrada LIVRE E GRATUITA \n
URL:https://agendadovinho.com.br/event/feira-de-vinhos-restaurante-soir/
LOCATION:Hotel eSuites Lagoa dos Ingleses\, Avenida Princesa Diana\, 440\, Alphaville\, Nova Lima\, MG\, Brasil
CATEGORIES:Degustação,MG - Demais cidades
ATTACH;FMTTYPE=image/jpeg:https://agendadovinho.com.br/wp-content/uploads/2019/11/feira-de-vinhos_231119.jpg
END:VEVENT
END:VCALENDAR