BEGIN:VCALENDAR
VERSION:2.0
PRODID:-//Agenda do Vinho - ECPv4.9.0//NONSGML v1.0//EN
CALSCALE:GREGORIAN
METHOD:PUBLISH
X-WR-CALNAME:Agenda do Vinho
X-ORIGINAL-URL:https://agendadovinho.com.br
X-WR-CALDESC:Eventos para Agenda do Vinho
BEGIN:VEVENT
DTSTART;TZID=America/Sao_Paulo:20200310T190000
DTEND;TZID=America/Sao_Paulo:20200310T190000
DTSTAMP:20260424T012839
CREATED:20200304T193712Z
LAST-MODIFIED:20200304T193712Z
UID:11786-1583866800-1583866800@agendadovinho.com.br
SUMMARY:Feira de Vinhos
DESCRIPTION:Feira de vinhos com o sommelier Jardel Frank. \n  \n
URL:https://agendadovinho.com.br/event/feira-de-vinhos-7/
LOCATION:Padaria da Esquina – Itaim\, R. Bandeira Paulista\, 812 - Itaim Bibi\, São Paulo\, SP\, 04532-002\, Brasil
CATEGORIES:Outros,SP - São Paulo
ATTACH;FMTTYPE=image/jpeg:https://agendadovinho.com.br/wp-content/uploads/2020/03/feira-de-vinhos_100320.jpg
END:VEVENT
END:VCALENDAR