BEGIN:VCALENDAR
VERSION:2.0
PRODID:-//Agenda do Vinho - ECPv4.9.0//NONSGML v1.0//EN
CALSCALE:GREGORIAN
METHOD:PUBLISH
X-WR-CALNAME:Agenda do Vinho
X-ORIGINAL-URL:https://agendadovinho.com.br
X-WR-CALDESC:Eventos para Agenda do Vinho
BEGIN:VEVENT
DTSTART;TZID=America/Sao_Paulo:20240516T170000
DTEND;TZID=America/Sao_Paulo:20240516T210000
DTSTAMP:20260420T175725
CREATED:20240423T170511Z
LAST-MODIFIED:20240423T170511Z
UID:19979-1715878800-1715893200@agendadovinho.com.br
SUMMARY:Experimenta Bioma Vinhos Naturais com Happy Hour
DESCRIPTION:
URL:https://agendadovinho.com.br/event/experimenta-bioma-vinhos-naturais-com-happy-hour/
LOCATION:Bioma Food Hub\, Av. Cidade Jardim\, 377 - 1º | 3º | 6º andar - Itaim Bibi\, São Paulo\, SP\, 01453-000\, Brasil
CATEGORIES:Outros,SP - São Paulo
ATTACH;FMTTYPE=image/png:https://agendadovinho.com.br/wp-content/uploads/2024/04/experimenta-bioma_160524.png
END:VEVENT
END:VCALENDAR