BEGIN:VCALENDAR
VERSION:2.0
PRODID:-//Agenda do Vinho - ECPv4.9.0//NONSGML v1.0//EN
CALSCALE:GREGORIAN
METHOD:PUBLISH
X-WR-CALNAME:Agenda do Vinho
X-ORIGINAL-URL:https://agendadovinho.com.br
X-WR-CALDESC:Eventos para Agenda do Vinho
BEGIN:VEVENT
DTSTART;TZID=America/Sao_Paulo:20200801T121000
DTEND;TZID=America/Sao_Paulo:20200801T121000
DTSTAMP:20260423T080734
CREATED:20200730T160429Z
LAST-MODIFIED:20200730T160429Z
UID:15389-1596283800-1596283800@agendadovinho.com.br
SUMMARY:Evino apresenta: O maravilhoso mundo dos vinhos\, com informação e sem nariz empinado
DESCRIPTION:01/ago – 12:10 \n
URL:https://agendadovinho.com.br/event/evino-apresenta-o-maravilhoso-mundo-dos-vinhos-com-informacao-e-sem-nariz-empinado/
LOCATION:Vídeo conferência
CATEGORIES:Curso técnico,Online
ATTACH;FMTTYPE=image/jpeg:https://agendadovinho.com.br/wp-content/uploads/2020/07/evino_010820.jpg
END:VEVENT
END:VCALENDAR