BEGIN:VCALENDAR
VERSION:2.0
PRODID:-//Agenda do Vinho - ECPv4.9.0//NONSGML v1.0//EN
CALSCALE:GREGORIAN
METHOD:PUBLISH
X-WR-CALNAME:Agenda do Vinho
X-ORIGINAL-URL:https://agendadovinho.com.br
X-WR-CALDESC:Eventos para Agenda do Vinho
BEGIN:VEVENT
DTSTART;TZID=America/Sao_Paulo:20240307T190000
DTEND;TZID=America/Sao_Paulo:20240307T230000
DTSTAMP:20260420T132721
CREATED:20240222T141438Z
LAST-MODIFIED:20240222T141438Z
UID:19306-1709838000-1709852400@agendadovinho.com.br
SUMMARY:Estilo Litoral 1ª edição: Vinho\, Moda e Gastronomia
DESCRIPTION:
URL:https://agendadovinho.com.br/event/estilo-litoral-1a-edicao-vinho-moda-e-gastronomia/
LOCATION:Giardino Gastronomia\, Av. Nereu Ramos\, 4106 - Itacolomi\, Balneário Piçarras\, SC\, 88380-000\, Brasil
CATEGORIES:Outros,SC - Demais cidades
ATTACH;FMTTYPE=image/jpeg:https://agendadovinho.com.br/wp-content/uploads/2024/02/vinho-moda-e-gastronomia_070324.jpg
END:VEVENT
END:VCALENDAR