BEGIN:VCALENDAR
VERSION:2.0
PRODID:-//Agenda do Vinho - ECPv4.9.0//NONSGML v1.0//EN
CALSCALE:GREGORIAN
METHOD:PUBLISH
X-WR-CALNAME:Agenda do Vinho
X-ORIGINAL-URL:https://agendadovinho.com.br
X-WR-CALDESC:Eventos para Agenda do Vinho
BEGIN:VEVENT
DTSTART;TZID=America/Sao_Paulo:20200525T190000
DTEND;TZID=America/Sao_Paulo:20200525T190000
DTSTAMP:20260426T022543
CREATED:20200525T180345Z
LAST-MODIFIED:20200525T180345Z
UID:13672-1590433200-1590433200@agendadovinho.com.br
SUMMARY:Estados Unidos
DESCRIPTION:25/05 – 19h \n
URL:https://agendadovinho.com.br/event/estados-unidos/
LOCATION:Instagram
CATEGORIES:Curso técnico,Online
ATTACH;FMTTYPE=image/jpeg:https://agendadovinho.com.br/wp-content/uploads/2020/05/abs_sp_250520.jpg
END:VEVENT
END:VCALENDAR