BEGIN:VCALENDAR
VERSION:2.0
PRODID:-//Agenda do Vinho - ECPv4.9.0//NONSGML v1.0//EN
CALSCALE:GREGORIAN
METHOD:PUBLISH
X-WR-CALNAME:Agenda do Vinho
X-ORIGINAL-URL:https://agendadovinho.com.br
X-WR-CALDESC:Eventos para Agenda do Vinho
BEGIN:VEVENT
DTSTART;TZID=America/Sao_Paulo:20200430T200000
DTEND;TZID=America/Sao_Paulo:20200430T200000
DTSTAMP:20260426T022315
CREATED:20200430T190514Z
LAST-MODIFIED:20200430T190514Z
UID:13048-1588276800-1588276800@agendadovinho.com.br
SUMMARY:Espumantes
DESCRIPTION:Live: Espumantes – 30/04 \n
URL:https://agendadovinho.com.br/event/espumantes/
LOCATION:Instagram
CATEGORIES:Curso técnico,Online
ATTACH;FMTTYPE=image/jpeg:https://agendadovinho.com.br/wp-content/uploads/2020/04/keziagiugni_300420.jpg
END:VEVENT
END:VCALENDAR