BEGIN:VCALENDAR
VERSION:2.0
PRODID:-//Agenda do Vinho - ECPv4.9.0//NONSGML v1.0//EN
CALSCALE:GREGORIAN
METHOD:PUBLISH
X-WR-CALNAME:Agenda do Vinho
X-ORIGINAL-URL:https://agendadovinho.com.br
X-WR-CALDESC:Eventos para Agenda do Vinho
BEGIN:VEVENT
DTSTART;TZID=America/Sao_Paulo:20200213T193000
DTEND;TZID=America/Sao_Paulo:20200213T193000
DTSTAMP:20260425T232225
CREATED:20200128T171323Z
LAST-MODIFIED:20200128T171323Z
UID:10858-1581622200-1581622200@agendadovinho.com.br
SUMMARY:Especial Espumantes
DESCRIPTION:Para quem não resiste ao charme das borbulhas\, será uma ótima oportunidade de conhecer mais sobre esses vinhos. O sommelier italiano Marco Cestrone vai apresentar as características dos principais espumantes e suas metodologias de produção. Ao final do evento\, que será realizado no dia 13 de fevereiro\, às 19h30\, serão degustados três espumantes.\nLocal: Casa Porcini\nRua Martins Ferreira\, 40\, Botafogo\, Rio de Janeiro/RJ\nValor: R$ 100\nVagas limitadas\nInscrições pelo e-mail: contato@casaporcini.com.br\nMais informações: www.casaporcini.com.br/loja \n
URL:https://agendadovinho.com.br/event/especial-espumantes/
LOCATION:Casa Porcini\, R. Martins Ferreira\, 40 - Botafogo\, Rio de Janeiro\, RJ\, 22271-010\, Brasil
CATEGORIES:Curso técnico,RJ - Rio de Janeiro
ATTACH;FMTTYPE=image/jpeg:https://agendadovinho.com.br/wp-content/uploads/2020/01/especial-espumantes_130220.jpg
END:VEVENT
END:VCALENDAR