BEGIN:VCALENDAR
VERSION:2.0
PRODID:-//Agenda do Vinho - ECPv4.9.0//NONSGML v1.0//EN
CALSCALE:GREGORIAN
METHOD:PUBLISH
X-WR-CALNAME:Agenda do Vinho
X-ORIGINAL-URL:https://agendadovinho.com.br
X-WR-CALDESC:Eventos para Agenda do Vinho
BEGIN:VEVENT
DTSTART;TZID=America/Sao_Paulo:20200415T200000
DTEND;TZID=America/Sao_Paulo:20200415T200000
DTSTAMP:20260426T035638
CREATED:20200414T150711Z
LAST-MODIFIED:20200414T150711Z
UID:12504-1586980800-1586980800@agendadovinho.com.br
SUMMARY:Eslovênia
DESCRIPTION:Nesta quarta 15/04 o Gestor da Marca Puklavec no Brasil Moacir Martins\, recebe o Embaixador da Eslovênia Gorazd Rencelj\, para um bate papo sobre a Eslovênia\, a forte tradição dos vinhos e as perspectivas de consumo dos vinhos Eslovenos no Brasil.\n⠀⠀⠀⠀⠀⠀⠀⠀⠀⠀\nA live acontece no Instagram\, quarta 15/04 às 20h. \n
URL:https://agendadovinho.com.br/event/eslovenia/
LOCATION:Instagram
CATEGORIES:Curso técnico,Online
ATTACH;FMTTYPE=image/jpeg:https://agendadovinho.com.br/wp-content/uploads/2020/04/puklavecfamilywinesbrasil_150420.jpg
END:VEVENT
END:VCALENDAR