BEGIN:VCALENDAR
VERSION:2.0
PRODID:-//Agenda do Vinho - ECPv4.9.0//NONSGML v1.0//EN
CALSCALE:GREGORIAN
METHOD:PUBLISH
X-WR-CALNAME:Agenda do Vinho
X-ORIGINAL-URL:https://agendadovinho.com.br
X-WR-CALDESC:Eventos para Agenda do Vinho
BEGIN:VEVENT
DTSTART;TZID=America/Sao_Paulo:20200328T193000
DTEND;TZID=America/Sao_Paulo:20200328T233000
DTSTAMP:20260425T171151
CREATED:20200312T181854Z
LAST-MODIFIED:20200312T181854Z
UID:12088-1585423800-1585438200@agendadovinho.com.br
SUMMARY:Encontro do Grupo Vinhos e Paixões - Edição São Paulo
DESCRIPTION:O grupo Vinhos e Paixões está na sua 3(a) ediçäo de encontros presenciais com seus membros para confraternização e harmonização de vinhos\, comidas e união de pessoas/amizades. \nPresença da fundadora do grupo\, Helena Ferreira e administradores. \nQUANDO: Dia 28/03/2020 – 19h30 \nValor: R$120\,00  \nincluso : \nCARDÁPIO DO ENCONTRO VINHOS E PAIXÕES \nENTRADA \nAntepasto Italiano \nParmesão\, berinjela\, abobrinha\, azeitonas pretas\, tomate seco acompanhado de pão italiano. \nPRIMEIRO PRATO \nRaviolone Verde \nMassa Artesanal com espinafre\, recheada com muçarela de búfala\, servida com molho napolitano e basilicão. \nSEGUNDO PRATO \nSalmão ao Pepito \nServido com molho de alcaparras e batata sauté.  \nTERCEIRO PRATO \nEscalopinho de Filé Mignon ao Vinho Porto \nServido com risoto de tomate seco. \nSOBREMESA \nTortilla de Nutela com Sorvete Crema \nBEBIDA INCLUÍDA \nÁgua (COM E SEM GÁS) \nRolha Free- cada participante leva seus próprios vinhos \nIngressos limitados. \nJá ganhamos o vinho branco (Tonet) para a entrada e o espumante (Aurora) para a sobremesa \n
URL:https://agendadovinho.com.br/event/encontro-do-grupo-vinhos-e-paixoes-edicao-sao-paulo/
LOCATION:Pepitto – Vila Olímpia\, R. Alvorada\, 1009 - Vila Olímpia\, São Paulo\, SP\, 04550-003\, Brasil
CATEGORIES:Degustação,SP - São Paulo
ATTACH;FMTTYPE=image/jpeg:https://agendadovinho.com.br/wp-content/uploads/2020/03/AD5D2BF8-C04A-420C-893F-9B327CC03B24.jpeg
END:VEVENT
END:VCALENDAR