BEGIN:VCALENDAR
VERSION:2.0
PRODID:-//Agenda do Vinho - ECPv4.9.0//NONSGML v1.0//EN
CALSCALE:GREGORIAN
METHOD:PUBLISH
X-WR-CALNAME:Agenda do Vinho
X-ORIGINAL-URL:https://agendadovinho.com.br
X-WR-CALDESC:Eventos para Agenda do Vinho
BEGIN:VEVENT
DTSTART;TZID=America/Sao_Paulo:20200307T120000
DTEND;TZID=America/Sao_Paulo:20200307T200000
DTSTAMP:20260425T183424
CREATED:20200117T152409Z
LAST-MODIFIED:20200205T220224Z
UID:10661-1583582400-1583611200@agendadovinho.com.br
SUMMARY:Encontro de Vinhos & Churrasco - Março
DESCRIPTION:Use o código AGENDADOVINHO e tenha R$10\,00 de desconto.\nQuem aí estava com saudades de um Encontro de Vinhos & Churrasco? Nós certamente estávamos\, então vamos para o primeiro do ano? \nVai ser dia 07 de março e desta vez vamos fazer em um lugar diferente\, que tem uma vibe super bacana e que certamente vai te conquistar. É a Casa Webforce\, que vai nos receber para mais um dia cheio de degustações\, música\, diversão e claro\, muita carne bO Encontro de Vinhos & Churrasco de março é uma parceria com a Rufus BBQ\, uma empresa que chegou recentemente ao mercado mas que conta com uma longa experiência de seus sócios. \nE você já sabe\, durante todo o evento você poderá degustar os vinhos\, queijos e azeites dos expositores. Se gostar de alguma garrafa em especial\, poderá comprar diretamente nos stands. \nJunte os amigos e venha se divertir com a gente. Por aqui bebe-se e come-se muito bem! \nENCONTRO DE VINHOS & CHURRASCO\nLOCAL: Casa WebForce – Av. República do Líbano\, 331 – São Paulo – SP\nDATA: 07 de março de 2020\nHORÁRIO: 12h às 20h\nINGRESSOS: você pode escolher entre taça de acrílico ou cristal. \n
URL:https://agendadovinho.com.br/event/encontro-de-vinhos-churrasco-marco/
LOCATION:Casa Webforce\, Av. República do Líbano\, 331 - Vila Mariana\, São Paulo\, SP\, 04501-000\, Brasil
CATEGORIES:Degustação,SP - São Paulo
ATTACH;FMTTYPE=image/jpeg:https://agendadovinho.com.br/wp-content/uploads/2020/01/encontro-de-vinhos-e-churrasco_070320.jpg
END:VEVENT
END:VCALENDAR