BEGIN:VCALENDAR
VERSION:2.0
PRODID:-//Agenda do Vinho - ECPv4.9.0//NONSGML v1.0//EN
CALSCALE:GREGORIAN
METHOD:PUBLISH
X-WR-CALNAME:Agenda do Vinho
X-ORIGINAL-URL:https://agendadovinho.com.br
X-WR-CALDESC:Eventos para Agenda do Vinho
BEGIN:VEVENT
DTSTART;TZID=America/Sao_Paulo:20200324T190000
DTEND;TZID=America/Sao_Paulo:20200324T210000
DTSTAMP:20260425T170832
CREATED:20200303T172200Z
LAST-MODIFIED:20200303T172200Z
UID:11724-1585076400-1585083600@agendadovinho.com.br
SUMMARY:Edinho Barbosa - Entrevista e degustação de vinhos!
DESCRIPTION:EDINHO BARBOSA | Entrevista Raphael Zanette sobre vinhos\, gastronomia e empreendedorismo. Degustação de 2 rótulos selecionados! \n\nParticipe da entrevista e deguste 2 rótulos especiais de vinhos selecionados por Raphael Zanette. \n__________________________________________________________________________________ \nEntrevistador: Edinho Barbosa \nComeçou treinamentos em 2005 como instrutor da Daily Carnage. \nFormações em Coaching nas áreas técnicas e comportamentais focadas sempre no ser humano\, base de relações\, vendas\, comunicação e liderança \nO objetivo sempre dos seus treinamentos\, cursos e palestras é como melhorar comportamentos para aprimorar vendas\, lideranças\, inteligência emocional \nJá atuou em Grandes Empresas como: \nUnimed | Claro | EuroFarma | Velho Madalosso | Mustang Sally | Renault | RPC | Volvo | DAPI \n\n\nEntrevistado: Raphael Zanette \nÀ frente do Grupo Vino!\, o empresário Raphael Zanette é restaurateur e especialista em vinhos. Viaja com frequência para as principais regiões produtoras do mundo\, sempre buscando novidades e mais conhecimento. Zanette realiza cursos e degustações nos quais procura desmistificar o mundo dos vinhos\, aproximando o produto do público em geral. \nGrupo Vino!: \nRestaurante C la Vie | Terra Madre Ristorante | Olivença Cozinha Ibérica | Z Suhi Lounge Bar | Nonno Baptista Restaurante | Vino! | Mercadoteca | Magnum Importadora \n\n
URL:https://agendadovinho.com.br/event/edinho-barbosa-entrevista-e-degustacao-de-vinhos/
LOCATION:Mercadoteca\, R. Paulo Gorski\, 1309 - Mossunguê\, Curitiba\, PR\, 81210-220\, Brasil
CATEGORIES:Degustação,PR - Curitiba
ATTACH;FMTTYPE=image/jpeg:https://agendadovinho.com.br/wp-content/uploads/2020/03/entrevista-e-degustacao_240320.jpg
END:VEVENT
END:VCALENDAR