BEGIN:VCALENDAR
VERSION:2.0
PRODID:-//Agenda do Vinho - ECPv4.9.0//NONSGML v1.0//EN
CALSCALE:GREGORIAN
METHOD:PUBLISH
X-WR-CALNAME:Agenda do Vinho
X-ORIGINAL-URL:https://agendadovinho.com.br
X-WR-CALDESC:Eventos para Agenda do Vinho
BEGIN:VEVENT
DTSTART;TZID=America/Sao_Paulo:20200620T190000
DTEND;TZID=America/Sao_Paulo:20200620T190000
DTSTAMP:20260426T004944
CREATED:20200620T204342Z
LAST-MODIFIED:20200620T204342Z
UID:14399-1592679600-1592679600@agendadovinho.com.br
SUMMARY:Drinks com vinho do porto
DESCRIPTION:20/06 – 19h \n
URL:https://agendadovinho.com.br/event/drinks-com-vinho-do-porto/
LOCATION:Instagram
CATEGORIES:Curso técnico,Online
ATTACH;FMTTYPE=image/jpeg:https://agendadovinho.com.br/wp-content/uploads/2020/06/davinha_aovinho_200620.jpg
END:VEVENT
END:VCALENDAR