BEGIN:VCALENDAR
VERSION:2.0
PRODID:-//Agenda do Vinho - ECPv4.9.0//NONSGML v1.0//EN
CALSCALE:GREGORIAN
METHOD:PUBLISH
X-WR-CALNAME:Agenda do Vinho
X-ORIGINAL-URL:https://agendadovinho.com.br
X-WR-CALDESC:Eventos para Agenda do Vinho
BEGIN:VEVENT
DTSTART;TZID=America/Sao_Paulo:20200731T180000
DTEND;TZID=America/Sao_Paulo:20200731T180000
DTSTAMP:20260425T132623
CREATED:20200729T152542Z
LAST-MODIFIED:20200729T152542Z
UID:15339-1596218400-1596218400@agendadovinho.com.br
SUMMARY:Douro
DESCRIPTION:31/jul – 18:00 \n
URL:https://agendadovinho.com.br/event/douro/
LOCATION:Instagram
CATEGORIES:Curso técnico,Online
ATTACH;FMTTYPE=image/jpeg:https://agendadovinho.com.br/wp-content/uploads/2020/07/wineweekendsp_310720.jpg
END:VEVENT
END:VCALENDAR