BEGIN:VCALENDAR
VERSION:2.0
PRODID:-//Agenda do Vinho - ECPv4.9.0//NONSGML v1.0//EN
CALSCALE:GREGORIAN
METHOD:PUBLISH
X-WR-CALNAME:Agenda do Vinho
X-ORIGINAL-URL:https://agendadovinho.com.br
X-WR-CALDESC:Eventos para Agenda do Vinho
BEGIN:VEVENT
DTSTART;TZID=America/Sao_Paulo:20200602T190000
DTEND;TZID=America/Sao_Paulo:20200602T190000
DTSTAMP:20260425T231412
CREATED:20200602T154344Z
LAST-MODIFIED:20200602T154344Z
UID:13838-1591124400-1591124400@agendadovinho.com.br
SUMMARY:Didu Russo - Vinhos e etcétera
DESCRIPTION:02/06 – 19h \n
URL:https://agendadovinho.com.br/event/didu-russo-vinhos-e-etcetera/
LOCATION:Instagram
CATEGORIES:Curso técnico,Online
ATTACH;FMTTYPE=image/jpeg:https://agendadovinho.com.br/wp-content/uploads/2020/06/davinha_aovinho_020620.jpg
END:VEVENT
END:VCALENDAR