BEGIN:VCALENDAR
VERSION:2.0
PRODID:-//Agenda do Vinho - ECPv4.9.0//NONSGML v1.0//EN
CALSCALE:GREGORIAN
METHOD:PUBLISH
X-WR-CALNAME:Agenda do Vinho
X-ORIGINAL-URL:https://agendadovinho.com.br
X-WR-CALDESC:Eventos para Agenda do Vinho
BEGIN:VEVENT
DTSTART;TZID=America/Sao_Paulo:20200319T180000
DTEND;TZID=America/Sao_Paulo:20200319T213000
DTSTAMP:20260425T183422
CREATED:20200314T173717Z
LAST-MODIFIED:20200314T173717Z
UID:12179-1584640800-1584653400@agendadovinho.com.br
SUMMARY:Dia da Mulher - Happy Hour e Encontro com Espumantes
DESCRIPTION:Loira\, morena\, ruiva\, alta\, baixa\, crespa\, lisa: nossa alma nos faz irmãs. \nVamos bebemorar este dia da mulher em um encontro divertido\, regado a muitos espumantes\, sorrisos e surpresas. \nUma mesa de frios te espera\, junto a um bate-papo com a enóloga Maria Amélia Duarte Flores. \nAs prevenções ao COVID-19 nos obrigam a limitar o número de participantes! \nCorra e faça a sua inscrição! \nVinho e Arte\, Plaza São Rafael \nAlberto Bins\, 514 \n19 de março\, 18h as 21h30 \nR$ 150\,00 \nInformações: 051 99331 60968 \n
URL:https://agendadovinho.com.br/event/dia-da-mulher-happy-hour-e-encontro-com-espumantes/
LOCATION:Vinho e Arte\, Av. Alberto Bins\, 514\, Porto Alegre\, RS\, Brasil
CATEGORIES:Degustação,RS - Porto Alegre
ATTACH;FMTTYPE=image/jpeg:https://agendadovinho.com.br/wp-content/uploads/2020/03/dia-da-mulher_190320.jpg
END:VEVENT
END:VCALENDAR