BEGIN:VCALENDAR
VERSION:2.0
PRODID:-//Agenda do Vinho - ECPv4.9.0//NONSGML v1.0//EN
CALSCALE:GREGORIAN
METHOD:PUBLISH
X-WR-CALNAME:Agenda do Vinho
X-ORIGINAL-URL:https://agendadovinho.com.br
X-WR-CALDESC:Eventos para Agenda do Vinho
BEGIN:VEVENT
DTSTART;TZID=America/Sao_Paulo:20200915T093000
DTEND;TZID=America/Sao_Paulo:20200915T193000
DTSTAMP:20260425T151530
CREATED:20200914T150658Z
LAST-MODIFIED:20200914T150801Z
UID:15937-1600162200-1600198200@agendadovinho.com.br
SUMMARY:Descorchados - Masterclasses e Degustações
DESCRIPTION:15/set – 09:30 \n
URL:https://agendadovinho.com.br/event/descorchados-masterclasses-e-degustacoes-2/
LOCATION:Youtube
CATEGORIES:Curso técnico,Online
ATTACH;FMTTYPE=image/jpeg:https://agendadovinho.com.br/wp-content/uploads/2020/09/pro_vinho_br_140920.jpg
END:VEVENT
END:VCALENDAR