BEGIN:VCALENDAR
VERSION:2.0
PRODID:-//Agenda do Vinho - ECPv4.9.0//NONSGML v1.0//EN
CALSCALE:GREGORIAN
METHOD:PUBLISH
X-WR-CALNAME:Agenda do Vinho
X-ORIGINAL-URL:https://agendadovinho.com.br
X-WR-CALDESC:Eventos para Agenda do Vinho
BEGIN:VEVENT
DTSTART;TZID=America/Sao_Paulo:20200415T180000
DTEND;TZID=America/Sao_Paulo:20200415T180000
DTSTAMP:20260426T040119
CREATED:20200414T151819Z
LAST-MODIFIED:20200414T151819Z
UID:12529-1586973600-1586973600@agendadovinho.com.br
SUMMARY:Descobrindo a Valmarino
DESCRIPTION:@davinha_aovinho e seu amigo e colega de DIPWSET @wsetglobal @eno_cultura \, @ale.pedrosa \, representante da @vinicolavalmarino em São Paulo\, estarão no Instagram para um bate-papo ao vivo. Alê vai nos contar tudo sobre a Valmarino e seu novo projeto de venda de vinho online\, o @qualvinhoeulevo . A nossa conversa vai acontecer na quarta-feira\, 15/04\, às 18h.\nSobre o Alê:\nDipWSET Student\nCMS Introductory\nEspecialista em Vinhos Alemães\nEspecialista em Vinhos Canadenses\nRepresentante Valmarino na cidade de São Paulo\nEscritor\n🇨🇦Canada Specialist 🇨🇦 Vistos para diversos países. \n
URL:https://agendadovinho.com.br/event/descobrindo-a-valmarino/
LOCATION:Instagram
CATEGORIES:Curso técnico,Online
ATTACH;FMTTYPE=image/jpeg:https://agendadovinho.com.br/wp-content/uploads/2020/04/davinha_aovinho_150420.jpg
END:VEVENT
END:VCALENDAR