BEGIN:VCALENDAR
VERSION:2.0
PRODID:-//Agenda do Vinho - ECPv4.9.0//NONSGML v1.0//EN
CALSCALE:GREGORIAN
METHOD:PUBLISH
X-WR-CALNAME:Agenda do Vinho
X-ORIGINAL-URL:https://agendadovinho.com.br
X-WR-CALDESC:Eventos para Agenda do Vinho
BEGIN:VEVENT
DTSTART;TZID=America/Sao_Paulo:20201022T193000
DTEND;TZID=America/Sao_Paulo:20201022T213000
DTSTAMP:20260423T003024
CREATED:20201021T181638Z
LAST-MODIFIED:20201021T181638Z
UID:16284-1603395000-1603402200@agendadovinho.com.br
SUMMARY:DEGUSTe Lusitano Na Wanderlust! Portugal
DESCRIPTION:22/out – 19:30 \nRio de Janeiro – RJ \n
URL:https://agendadovinho.com.br/event/deguste-lusitano-na-wanderlust-portugal/
LOCATION:Organomix Shopping Leblon\, Avenida Afrânio de Melo Franco\, 290\, Leblon\, Rio de Janeiro\, RJ\, Brasil
CATEGORIES:Degustação,RJ - Rio de Janeiro
ATTACH;FMTTYPE=image/jpeg:https://agendadovinho.com.br/wp-content/uploads/2020/10/deguste-lusitano-na-wanderlust-portugal_221020.jpg
END:VEVENT
END:VCALENDAR