BEGIN:VCALENDAR
VERSION:2.0
PRODID:-//Agenda do Vinho - ECPv4.9.0//NONSGML v1.0//EN
CALSCALE:GREGORIAN
METHOD:PUBLISH
X-WR-CALNAME:Agenda do Vinho
X-ORIGINAL-URL:https://agendadovinho.com.br
X-WR-CALDESC:Eventos para Agenda do Vinho
BEGIN:VEVENT
DTSTART;TZID=America/Sao_Paulo:20200824T180000
DTEND;TZID=America/Sao_Paulo:20200824T180000
DTSTAMP:20260425T115005
CREATED:20200824T132854Z
LAST-MODIFIED:20200824T132854Z
UID:15784-1598292000-1598292000@agendadovinho.com.br
SUMMARY:Degustando a vinícola: Quinta do Romeu
DESCRIPTION:24/ago – 18:00 \n
URL:https://agendadovinho.com.br/event/degustando-a-vinicola-quinta-do-romeu/
LOCATION:Youtube
CATEGORIES:Curso técnico,Online
ATTACH;FMTTYPE=image/jpeg:https://agendadovinho.com.br/wp-content/uploads/2020/08/vinhoemusicaclub_240820.jpg
END:VEVENT
END:VCALENDAR