BEGIN:VCALENDAR
VERSION:2.0
PRODID:-//Agenda do Vinho - ECPv4.9.0//NONSGML v1.0//EN
CALSCALE:GREGORIAN
METHOD:PUBLISH
X-WR-CALNAME:Agenda do Vinho
X-ORIGINAL-URL:https://agendadovinho.com.br
X-WR-CALDESC:Eventos para Agenda do Vinho
BEGIN:VEVENT
DTSTART;TZID=America/Sao_Paulo:20200731T193000
DTEND;TZID=America/Sao_Paulo:20200731T193000
DTSTAMP:20260423T062958
CREATED:20200730T160452Z
LAST-MODIFIED:20200730T160452Z
UID:15393-1596223800-1596223800@agendadovinho.com.br
SUMMARY:Degustando a vinícola - Michele Carraro
DESCRIPTION:31/jul – 19:30 \n
URL:https://agendadovinho.com.br/event/degustando-a-vinicola-michele-carraro/
LOCATION:Youtube
CATEGORIES:Curso técnico,Online
ATTACH;FMTTYPE=image/jpeg:https://agendadovinho.com.br/wp-content/uploads/2020/07/vinhoemusicaclub_310720.jpg
END:VEVENT
END:VCALENDAR